BEGIN:VCALENDAR
VERSION:2.0
PRODID:-//wp-events-plugin.com//7.2.3.1//EN
TZID:Europe/London
X-WR-TIMEZONE:Europe/London
BEGIN:VEVENT
UID:0-1174@devon.gov.uk
DTSTART;TZID=Europe/London:20240924T093000
DTEND;TZID=Europe/London:20240924T163000
DTSTAMP:20240807T094813Z
URL:https://www.devon.gov.uk/providerengagementnetwork/events/wellbeing-bu
 ddy-training-in-august-and-september-4/
SUMMARY:Wellbeing Buddy Training in August and September
DESCRIPTION:The Devon Wellbeing Hub are offering a one-day course to train
  colleagues to become Wellbeing Buddies. Wellbeing Buddies (also known as 
 Wellbeing Champions) support the wellbeing of colleagues within their orga
 nisation.\nTraining dates available for colleagues who are interested:\n\n
 \n 	Tuesday 27 August – 9.30am-4.30pm\n 	Tuesday 24 September – 9.30a
 m-4.30pm\n\nThe sessions will take place in person at Health Innovation S
 outh West\, Pynes Hill\, Exeter.\nThe training will be led by our Colleagu
 e Wellbeing Practitioners.\nPlease note\, colleagues will need to get app
 roval from their line manager and complete the attached ‘Wellbeing Budd
 y Agreement’ form before signing up. Once complete\, this will need to 
 be sent back to dpt.devonwellbeing@nhs.net with the session they’d lik
 e to attend. More information can be found in this PowerPoint.
END:VEVENT
BEGIN:VTIMEZONE
TZID:Europe/London
X-LIC-LOCATION:Europe/London
BEGIN:DAYLIGHT
DTSTART:20240331T020000
TZOFFSETFROM:+0000
TZOFFSETTO:+0100
TZNAME:BST
END:DAYLIGHT
END:VTIMEZONE
END:VCALENDAR