BEGIN:VCALENDAR
VERSION:2.0
PRODID:-//wp-events-plugin.com//7.2.3.1//EN
TZID:Europe/London
X-WR-TIMEZONE:Europe/London
BEGIN:VEVENT
UID:0-1175@devon.gov.uk
DTSTART;TZID=Europe/London:20240814T140000
DTEND;TZID=Europe/London:20240814T150000
DTSTAMP:20240807T094908Z
URL:https://www.devon.gov.uk/providerengagementnetwork/events/open-afterno
 on-at-castle-ham-lodge-cafe-castle-ham-lodge-castle-road-okehampton/
SUMMARY:Open Afternoon at Castle Ham Lodge Café\, Castle Ham Lodge\, Castl
 e Road\, Okehampton
DESCRIPTION:Wednesday 14 August 2pm-3pm - Free Cream Tea!\n\nCome join Made
  Well for a complimentary cream tea (homemade) and hear all about what the
 y have to offer. The café is open every day 9am - 3pm and they provide a 
 Meals on Wheels service of hot &amp\; cold meals delivered to Okehampton a
 nd hamlets.\n\nTheir café can be hired 3-5pm for meetings\, groups and pa
 rties. If you have any queries please email meals@made-well.co.uk
END:VEVENT
BEGIN:VTIMEZONE
TZID:Europe/London
X-LIC-LOCATION:Europe/London
BEGIN:DAYLIGHT
DTSTART:20240331T020000
TZOFFSETFROM:+0000
TZOFFSETTO:+0100
TZNAME:BST
END:DAYLIGHT
END:VTIMEZONE
END:VCALENDAR