BEGIN:VCALENDAR
VERSION:2.0
PRODID:-//wp-events-plugin.com//7.2.3.1//EN
TZID:Europe/London
X-WR-TIMEZONE:Europe/London
BEGIN:VEVENT
UID:0-1184@devon.gov.uk
DTSTART;TZID=Europe/London:20240924T100000
DTEND;TZID=Europe/London:20240924T160000
DTSTAMP:20240910T103544Z
URL:https://www.devon.gov.uk/providerengagementnetwork/events/northern-dev
 on-care-homes-team-would-like-to-invite-you-to-the-living-well-in-care-hom
 es-services-learning-event/
SUMMARY:Northern Devon Care Homes Team would like to invite you to the Livi
 ng Well in Care Homes services learning event
DESCRIPTION:On 24 September 10am-4pm\, the meeting will be held in Bideford
 .\n\nThis is a Free to Educational event for staff from Care Homes/Domicil
 iary Care Agencies/Supported Living/Learning Disabilities across North Dev
 on. Spaces are limited to 2 per care setting.\n\nThere are a few spaces le
 ft. To book please complete our booking form via this link.\n\nFurther det
 ails and confirmation will then follow. We would appreciate your every eff
 ort to attend once you have been accepted on to this course to prevent den
 ying someone else a place.\n\nWe hope you can join us at this workshop 
 and learn new skills and knowledge to take back to your workplace. If you 
 require any other information\, please email rduh.northerncarehomesteam@n
 hs.net
END:VEVENT
BEGIN:VTIMEZONE
TZID:Europe/London
X-LIC-LOCATION:Europe/London
BEGIN:DAYLIGHT
DTSTART:20240331T020000
TZOFFSETFROM:+0000
TZOFFSETTO:+0100
TZNAME:BST
END:DAYLIGHT
END:VTIMEZONE
END:VCALENDAR