BEGIN:VCALENDAR
VERSION:2.0
PRODID:-//wp-events-plugin.com//7.2.3.1//EN
TZID:Europe/London
X-WR-TIMEZONE:Europe/London
BEGIN:VEVENT
UID:0-1200@devon.gov.uk
DTSTART;TZID=Europe/London:20241004T150000
DTEND;TZID=Europe/London:20241129T170000
DTSTAMP:20241002T130805Z
URL:https://www.devon.gov.uk/providerengagementnetwork/events/language-sup
 port-sessions-migrant-social-integration/
SUMMARY:Language support sessions- Migrant Social Integration
DESCRIPTION:The language support sessions for international recruits in soc
 ial care\, can be accessed via zoom and it is always the same meeting room
 .\n\nEvery Friday 3pm to 5pm\n\nhttps://us02web.zoom.us/j/85756073995
END:VEVENT
BEGIN:VTIMEZONE
TZID:Europe/London
X-LIC-LOCATION:Europe/London
BEGIN:DAYLIGHT
DTSTART:20240331T020000
TZOFFSETFROM:+0000
TZOFFSETTO:+0100
TZNAME:BST
END:DAYLIGHT
BEGIN:STANDARD
DTSTART:20241027T010000
TZOFFSETFROM:+0100
TZOFFSETTO:+0000
TZNAME:GMT
END:STANDARD
END:VTIMEZONE
END:VCALENDAR