BEGIN:VCALENDAR
VERSION:2.0
PRODID:-//wp-events-plugin.com//7.2.3.1//EN
TZID:Europe/London
X-WR-TIMEZONE:Europe/London
BEGIN:VEVENT
UID:0-331@devon.gov.uk
DTSTART;TZID=Europe/London:20201104T140000
DTEND;TZID=Europe/London:20201104T150000
DTSTAMP:20201028T110744Z
URL:https://www.devon.gov.uk/providerengagementnetwork/events/infection-co
 ntrol-fund-round-2-webinar/
SUMMARY:Infection Control Fund Round 2 - webinar
DESCRIPTION:Opportunity to discuss the Funding and answer any queries provi
 ders might have.\n\nQuestions will be taken on the day\, but to ensure tha
 t as many queries as possible can be addressed\, please submit any questio
 ns you have in advance to:\n\nadultsc.adultcarehealthcovid19-mailbox@devon
 .gov.uk\n\nLink to access the webinar.
END:VEVENT
BEGIN:VTIMEZONE
TZID:Europe/London
X-LIC-LOCATION:Europe/London
BEGIN:STANDARD
DTSTART:20201025T010000
TZOFFSETFROM:+0100
TZOFFSETTO:+0000
TZNAME:GMT
END:STANDARD
END:VTIMEZONE
END:VCALENDAR