BEGIN:VCALENDAR
VERSION:2.0
PRODID:-//wp-events-plugin.com//7.2.3.1//EN
TZID:Europe/London
X-WR-TIMEZONE:Europe/London
BEGIN:VEVENT
UID:0-329@devon.gov.uk
DTSTART;TZID=Europe/London:20201102T130000
DTEND;TZID=Europe/London:20201102T160000
DTSTAMP:20201022T131413Z
URL:https://www.devon.gov.uk/providerengagementnetwork/events/fit-tester-t
 raining-and-change-of-ffp3-masks/
SUMMARY:Fit tester training and change of FFP3 masks
DESCRIPTION:Free online training on the use of FFP3 masks is now available 
 for providers to enable their staff to become their own in-house fit teste
 rs. The fit testers do not have to be medically trained nor state register
 ed.\n\nA change of FFP3 mask type requires carers to be refit tested to th
 e new brand of masks and having their own in-house fit testers will enable
  providers to have a responsive approach for their staff and clients.\n\nT
 he model of FFP3 masks available within the Devon system is about to chang
 e to GVS_F31000 and Optimum Medical HY9330 with other masks are expected t
 o be available from late November or early December.\n\nThere is limited s
 tock of the 3M and Cardinal brands left within the Devon system. It is ine
 vitable that carer staff will have to be refit tested during the winter pe
 riod to the new type of masks.\n\nTwo fit-testing training are now availab
 le on Monday 2 November from 1-4pm and on Friday 6 November from 9am to 12
 noon and places can be booked by emailing d-ccg.ppestores@nhs.net
END:VEVENT
BEGIN:VTIMEZONE
TZID:Europe/London
X-LIC-LOCATION:Europe/London
BEGIN:STANDARD
DTSTART:20201025T010000
TZOFFSETFROM:+0100
TZOFFSETTO:+0000
TZNAME:GMT
END:STANDARD
END:VTIMEZONE
END:VCALENDAR