BEGIN:VCALENDAR
VERSION:2.0
PRODID:-//wp-events-plugin.com//7.2.3.1//EN
TZID:Europe/London
X-WR-TIMEZONE:Europe/London
BEGIN:VEVENT
UID:0-664@devon.gov.uk
DTSTART;TZID=Europe/London:20211018T123000
DTEND;TZID=Europe/London:20211018T133000
DTSTAMP:20211007T144904Z
URL:https://www.devon.gov.uk/providerengagementnetwork/events/devon-infect
 ion-prevention-festival/
SUMMARY:Devon Infection Prevention Festival
DESCRIPTION:Join us in celebrating the importance of infection prevention a
 s part of International Infection Prevention Week from Monday 18 to Friday
  22 October.\n\nDevon County Council will be running a number of events an
 d activities throughout the week that are FREE to join\, suitable for all 
 settings e.g.\n\n 	Monday 18 October\, 12.30pm - 1.30pm. MRSA Webinar 'A p
 atient's ideation of Antimicrobial Stewardship'\n 	Wednesday 20 October\, 
 10.00am - 11.00am. Food Safety Update.\n
CATEGORIES:Group-based care and day services,Personal assistants,Personal
 care at home,Personalised support and enabling,Residential and nursing
 care homes,Supported living
END:VEVENT
BEGIN:VTIMEZONE
TZID:Europe/London
X-LIC-LOCATION:Europe/London
BEGIN:DAYLIGHT
DTSTART:20210328T020000
TZOFFSETFROM:+0000
TZOFFSETTO:+0100
TZNAME:BST
END:DAYLIGHT
END:VTIMEZONE
END:VCALENDAR