BEGIN:VCALENDAR
VERSION:2.0
PRODID:-//wp-events-plugin.com//7.2.3.1//EN
TZID:Europe/London
X-WR-TIMEZONE:Europe/London
BEGIN:VEVENT
UID:0-1128@devon.gov.uk
DTSTART;TZID=Europe/London:20240509T010000
DTEND;TZID=Europe/London:20240509T020000
DTSTAMP:20240415T121502Z
URL:https://www.devon.gov.uk/providerengagementnetwork/events/dementia-and
 -end-of-life-care/
SUMMARY:Dementia and end of life care
DESCRIPTION:Please join the Dementia and End of Life NHSE SW teams to hear 
 about the importance of early discussion with carers and relative about pl
 anning end of life care for people with dementia. We have the Admiral Nurs
 e from Dorothy House Hospice in Bath talking on this subject. She will exp
 lain the Dorothy House model of care for dementia and will also cover symp
 tom recognition and pain control. Esther will start the session with a pre
 sentation and there will be plenty of time for questions and answers with 
 opportunity to share your experiences.\n\nThis is an MS Teams meeting and 
 people can join virtually so please forward this invite on to colleagues w
 ho support people on the dementia pathway in both statutory and non-statut
 ory organisations.\n\nClick on the link below to join the meeting.\n\nMicr
 osoft Teams Need help?\n\nJoin the meeting now\n\nWe are really looking fo
 rward to progressing the conversations on this very important subject of d
 ementia and end of life care. Please contact either myself\, Helen or Kath
  if you need any additional information.
END:VEVENT
BEGIN:VTIMEZONE
TZID:Europe/London
X-LIC-LOCATION:Europe/London
BEGIN:DAYLIGHT
DTSTART:20240331T020000
TZOFFSETFROM:+0000
TZOFFSETTO:+0100
TZNAME:BST
END:DAYLIGHT
END:VTIMEZONE
END:VCALENDAR