BEGIN:VCALENDAR
VERSION:2.0
PRODID:-//wp-events-plugin.com//7.2.3.1//EN
TZID:Europe/London
X-WR-TIMEZONE:Europe/London
BEGIN:VEVENT
UID:0-1129@devon.gov.uk
DTSTART;TZID=Europe/London:20240521T143000
DTEND;TZID=Europe/London:20240521T153000
DTSTAMP:20240415T121646Z
URL:https://www.devon.gov.uk/providerengagementnetwork/events/delirium-in-
 care-homes/
SUMMARY:Delirium in care homes
DESCRIPTION:Dear Colleagues\,\n\nNHSE SW Dementia team is hosting a session
  on:\n\n 	Delirium in Care Homes\n 	On 21st May 2024\n 	14.30 to 15.30\n\n
 Dr Rachel O’Toole and Rebecca Furzer from Somerset have kindly agreed to
  present and will focus on recognition and management of delirium within t
 he care home setting. We would like to welcome all care providers\, so bot
 h statutory and non-statutory providers as we know it is important for all
  organisation who care for people with dementia to understand delirium.\n\
 nThis is an MS Teams meeting and people can join virtually so please forwa
 rd this invite on to colleagues who support people on the dementia pathway
 .\n\nMicrosoft Teams Need help?\n\nJoin the meeting now
END:VEVENT
BEGIN:VTIMEZONE
TZID:Europe/London
X-LIC-LOCATION:Europe/London
BEGIN:DAYLIGHT
DTSTART:20240331T020000
TZOFFSETFROM:+0000
TZOFFSETTO:+0100
TZNAME:BST
END:DAYLIGHT
END:VTIMEZONE
END:VCALENDAR