BEGIN:VCALENDAR
VERSION:2.0
PRODID:-//wp-events-plugin.com//7.2.3.1//EN
TZID:Europe/London
X-WR-TIMEZONE:Europe/London
BEGIN:VEVENT
UID:0-1183@devon.gov.uk
DTSTART;TZID=Europe/London:20241007T140000
DTEND;TZID=Europe/London:20241007T150000
DTSTAMP:20240910T103452Z
URL:https://www.devon.gov.uk/providerengagementnetwork/events/celebrate-wo
 rld-mental-health-day-with-the-devon-wellbeing-hub/
SUMMARY:Celebrate World Mental Health Day with the Devon Wellbeing Hub
DESCRIPTION:World Mental Health Day takes place on Thursday 10 October and
  this year’s theme is “it’s time to prioritise mental health in the 
 workplace.”\n\nTo mark the occasion\, the Devon Wellbeing Hub are host
 ing two webinars during the week.\n\nKeeping Well at Work:\n\nTo start the
  week\, Anna Croucher\, Senior Colleague Wellbeing Practitioner\, will be 
 running a ‘Keeping Well at Work’ session on Monday 7 October\, 2-3pm.
END:VEVENT
BEGIN:VTIMEZONE
TZID:Europe/London
X-LIC-LOCATION:Europe/London
BEGIN:DAYLIGHT
DTSTART:20240331T020000
TZOFFSETFROM:+0000
TZOFFSETTO:+0100
TZNAME:BST
END:DAYLIGHT
END:VTIMEZONE
END:VCALENDAR